BEGIN:VCALENDAR
VERSION:2.0
PRODID:-//wp-events-plugin.com//7.0.5//EN
TZID:Europe/Berlin
X-WR-TIMEZONE:Europe/Berlin
BEGIN:VEVENT
UID:28@weingaertner-marbach.de
DTSTART;TZID=Europe/Berlin:20250815T180000
DTEND;TZID=Europe/Berlin:20250815T220000
DTSTAMP:20250616T081145Z
URL:https://www.weingaertner-marbach.de/events/wein-vinyl/
SUMMARY:Wein & Vinyl
DESCRIPTION:Was braucht man für einen perfekten Sommerabend?\n\n 	eine sch
 öne Terrasse mit Blick ins Grüne\n 	den Lieblingsmenschen an der Seite\n
  	ein gutes Glas Wein\n 	einen Plattenspieler\n 	Südlich vom Ochsen\n 	Fa
 bian Friedl\n 	Weingärtner Marbach\n\nAm Freitag\,15. August 2025 laden w
 ir gemeinsam mit Südlich vom Ochsen zum 6. Wein &amp\; Vinyl Abend auf un
 sere wunderschöne Terrasse ein!\n\nWir sorgen für das leibliche Wohl\, S
 üdlich vom Ochsen für die Unterhaltung!\n\nLust zu kommen? So geht`s:\n\
 n 	\n\n 	\n\n 	Tickets in der Vinothek der Weingärtner Marbach kaufen (nu
 r Barzahlung möglich)\n 	Lieblingsplatte mitbringen (gespielt wird alles\
 , was nicht länger als 5 Minuten geht)\n 	Vor Ort Zettel mit Liedwunsch\,
  Name und zwei Schlagwörtern\, warum ihr dieses Lied hören möchtet\, an
  die Platte heften und bei unserem charmanten Moderatorenteam abgeben.\n 	
 zuhören\, lachen\, weinen\, schwelgen und genießen!\n\n\n\n\n\nEinlass: 
 ab 18.00 Uhr\, Beginn: 19.00 Uhr\n\nWeitere Informationen finden Sie auch 
 auf der Webseite von Südlich vom Ochsen.\n\nWir freuen uns auf Ihren Besu
 ch!\n\nLeider ist die Veranstaltung bereits ausgebucht.
ATTACH;FMTTYPE=image/jpeg:https://www.weingaertner-marbach.de/wp-content/u
 ploads/2025/05/Wein_Vinyl_2025_AUSGEBUCHT.jpg
LOCATION:Weingärtner Marbach\, Affalterbacher Str. 65\, Marbach am Neckar\
 , Baden-Württemberg\, 71672\, Deutschland
X-APPLE-STRUCTURED-LOCATION;VALUE=URI;X-ADDRESS=Affalterbacher Str. 65\, Ma
 rbach am Neckar\, Baden-Württemberg\, 71672\, Deutschland;X-APPLE-RADIUS=
 100;X-TITLE=Weingärtner Marbach:geo:0,0
END:VEVENT
BEGIN:VTIMEZONE
TZID:Europe/Berlin
X-LIC-LOCATION:Europe/Berlin
BEGIN:DAYLIGHT
DTSTART:20250330T030000
TZOFFSETFROM:+0100
TZOFFSETTO:+0200
TZNAME:CEST
END:DAYLIGHT
END:VTIMEZONE
END:VCALENDAR