BEGIN:VCALENDAR
VERSION:2.0
PRODID:-//wp-events-plugin.com//7.0.5//EN
TZID:Europe/Berlin
X-WR-TIMEZONE:Europe/Berlin
BEGIN:VEVENT
UID:35@weingaertner-marbach.de
DTSTART;TZID=Europe/Berlin:20250925T140000
DTEND;TZID=Europe/Berlin:20250925T220000
DTSTAMP:20250814T073249Z
URL:https://www.weingaertner-marbach.de/events/wein-cafe-drilling/
SUMMARY:Wein-Café Drilling
DESCRIPTION:Das beliebte Wein-Café Drilling ist über den Sommer auf unser
 er wunderschönen Sonnenterrasse im Grünen jeden Mittwoch und Donnerstag 
 ab 14 Uhr geöffnet.\nVon Mai bis Ende September werden Wein-Liebhaber\, T
 ouristen\, Stammgäste und die\, die es werden wollen mit herzhaften und s
 üßen Köstlichkeiten versorgt. Ob groß oder klein – alle Gäste komme
 n gleichermaßen auf Ihre Kosten. \nDen Saisonabschluss feiern wir am Donn
 erstag\, 25.09.2025! Bis dahin freuen wir uns jede Woche auf unsere (Stamm
 -)Gäste. \nIm Ausschank gibt es alle Weine\, Secco und Sekt der Weingär
 tner Marbach sowie wechselnde Wein-Cocktails\, wie z.B. den Trollinger-Fre
 sh oder Vino-Tonic oder den Dauerbrenner Aperol Spritz. Man darf gespannt 
 sein auf neue Snacks von unserem sympathischen Café-Team\, die perfekt zu
 m Wein passen – der beliebte Flammkuchen darf natürlich auf der Karte n
 icht fehlen.\nDer Name „Drilling“ entstammt dem besonderen Angebot wel
 ches es nur bei den Weingärtnern gibt. Eine Auswahl von drei Weinen kann 
 im extra dafür angefertigten Holzständer verkostet werden.\nÖffnungszei
 ten:\n\nMittwoch: 14 - 19 Uhr\n\nDonnerstag: 14 - 21 Uhr
ATTACH;FMTTYPE=image/jpeg:https://www.weingaertner-marbach.de/wp-content/u
 ploads/2025/05/Cafe_Drilling.jpg
LOCATION:Weingärtner Marbach\, Affalterbacher Str. 65\, Marbach am Neckar\
 , Baden-Württemberg\, 71672\, Deutschland
X-APPLE-STRUCTURED-LOCATION;VALUE=URI;X-ADDRESS=Affalterbacher Str. 65\, Ma
 rbach am Neckar\, Baden-Württemberg\, 71672\, Deutschland;X-APPLE-RADIUS=
 100;X-TITLE=Weingärtner Marbach:geo:0,0
END:VEVENT
BEGIN:VTIMEZONE
TZID:Europe/Berlin
X-LIC-LOCATION:Europe/Berlin
BEGIN:DAYLIGHT
DTSTART:20250330T030000
TZOFFSETFROM:+0100
TZOFFSETTO:+0200
TZNAME:CEST
END:DAYLIGHT
END:VTIMEZONE
END:VCALENDAR