BEGIN:VCALENDAR
VERSION:2.0
PRODID:-//wp-events-plugin.com//7.0.5//EN
TZID:Europe/Berlin
X-WR-TIMEZONE:Europe/Berlin
BEGIN:VEVENT
UID:61@weingaertner-marbach.de
DTSTART;TZID=Europe/Berlin:20260322T110000
DTEND;TZID=Europe/Berlin:20260322T180000
DTSTAMP:20260226T120015Z
URL:https://www.weingaertner-marbach.de/events/maerzklopfen/
SUMMARY:Märzklopfen
DESCRIPTION:Seit über 20 Jahren begrüßt das Ludwigsburger Märzklopfen 
 den Frühling in der Innenstadt. Zum Start der Blumensaison im Blühenden
  Barock erwarten euch bunte Dekorationen\, offene Biergärten\, attraktiv
 e Schaufensterangebote und besondere Aktionen der Gastronomen.\nAus dem fr
 üheren Flohmarkt entstand ein Kunst- und Genussmarkt mit frühlingshafte
 n Blumen- und Pflanzenständen. Genießt ein leckeres Glas Wein oder Secco
  bei uns am Weinwagen auf dem Marktplatz\, schlendert durch die Straßen\,
  entdeckt kreative Angebote und genießt die ersten Sonnenstrahlen bei ein
 em Bummel durch die Stadt.\nDas Märzklopfen hat sich als beliebtes Frühl
 ingsfest etabliert und lädt euch jedes Jahr ein\, Frühling\, Shopping u
 nd Genuss in Ludwigsburg zu verbinden.\n\nÖffnungszeiten Kunst- und Genu
 ssmarkt: \nSonntag\, 22. März 2026\, 11:00 bis 18:00 Uhr\n
ATTACH;FMTTYPE=image/jpeg:https://www.weingaertner-marbach.de/wp-content/u
 ploads/2025/02/2025_Maerzklopfen_LB.jpg
LOCATION:Marktplatz Ludwigsburg\, Marktplatz\, Ludwigsburg\, Deutschland
X-APPLE-STRUCTURED-LOCATION;VALUE=URI;X-ADDRESS=Marktplatz\, Ludwigsburg\, 
 Deutschland;X-APPLE-RADIUS=100;X-TITLE=Marktplatz Ludwigsburg:geo:0,0
END:VEVENT
BEGIN:VTIMEZONE
TZID:Europe/Berlin
X-LIC-LOCATION:Europe/Berlin
BEGIN:STANDARD
DTSTART:20251026T020000
TZOFFSETFROM:+0200
TZOFFSETTO:+0100
TZNAME:CET
END:STANDARD
END:VTIMEZONE
END:VCALENDAR