BEGIN:VCALENDAR
VERSION:2.0
PRODID:-//wp-events-plugin.com//7.0.5//EN
TZID:Europe/Berlin
X-WR-TIMEZONE:Europe/Berlin
BEGIN:VEVENT
UID:59@weingaertner-marbach.de
DTSTART;TZID=Europe/Berlin:20260320T183000
DTEND;TZID=Europe/Berlin:20260320T220000
DTSTAMP:20260211T151912Z
URL:https://www.weingaertner-marbach.de/events/biblische-weinprobe/
SUMMARY:Biblische Weinprobe
DESCRIPTION:Seit biblischen Zeiten ist der Wein mehr als nur ein Getränk: 
 Er steht für Freude und Gemeinschaft\, für Segen und Dankbarkeit\, aber 
 auch für Maß und Verantwortung. In vielen Geschichten der Bibel spielt d
 er Wein eine zentrale Rolle – vom Gleichnis vom Weinstock bis hin zum Ab
 endmahl.\nDie Weingärtner Marbach laden herzlich ein zu einer Biblischen 
 Weinprobe\, bei der sich Wein\, Bibel und Heimat auf besondere Weise begeg
 nen.\nDer Marbacher Dekan Dr. Ekkehard Graf wird die Veranstaltung mit ein
 em Grußwort eröffnen. Als Referent ist Dekan Rainer Köpf aus Backnang v
 or Ort\, der eine ganz persönliche Verbindung zu Marbach und zum Wein mit
 bringt: Er stammt ursprünglich aus Marbach\, seine Vorfahren lebten in de
 n Marbacher Holdergassen und waren mehrere Generationen lang Weingärtner.
 \nDiese Wurzeln – ebenso wie sein Wirken als Dekan im Remstal\, einer eb
 enfalls traditionsreichen Weinbauregion – haben sein Interesse an der Ve
 rbindung von Wein und Bibel geprägt. Mit theologischer Tiefe\, historisch
 em Wissen und einem Gespür für Genuss wird Dekan Köpf zeigen\, wie tief
  die Entwicklung des Weinbaus mit der Ausbreitung des christlichen Glauben
 s in unserer Region verbunden ist und dass es stimmt\, was Psalm 104 uns s
 agt: "Der Wein erfreut des Menschen Herz".\nGemeinsam mit seinem ehemalige
 n Marbacher Posaunenchorkollegen Friedrich Hammer\, ehemaliger Vorstand de
 r Weingärtner Marbach\, lädt er zu dieser besonderen Weinprobe in seine 
 Heimatstadt ein.Friedrich Hammer präsentiert fein ausgesuchte Weine der W
 eingärtner Marbach und zur Begrüßung einen Aperitif. Dazu gibt es ein s
 chwäbisches Vesper\, das den Abend auch kulinarisch abrundet.\nFreuen Sie
  sich auf einen genussvollen Abend voller Geschichten\, Glauben\, Heimatve
 rbundenheit und Marbacher Weinkultur.\nBeginn: 19:00 Uhr\, Einlass: 18:30 
 Uhr\nTickets zu 35\,00 € pro Person gibt`s im Gemeindebüro der evangeli
 schen Kirche in der Steinerstr. 4 in Marbach\, bei uns in der Vinothek ode
 r hier in unserem Online-Shop.
ATTACH;FMTTYPE=image/jpeg:https://www.weingaertner-marbach.de/wp-content/u
 ploads/2026/02/Biblische-Weinprobe.jpg
LOCATION:Weingärtner Marbach\, Affalterbacher Str. 65\, Marbach am Neckar\
 , Baden-Württemberg\, 71672\, Deutschland
X-APPLE-STRUCTURED-LOCATION;VALUE=URI;X-ADDRESS=Affalterbacher Str. 65\, Ma
 rbach am Neckar\, Baden-Württemberg\, 71672\, Deutschland;X-APPLE-RADIUS=
 100;X-TITLE=Weingärtner Marbach:geo:0,0
END:VEVENT
BEGIN:VTIMEZONE
TZID:Europe/Berlin
X-LIC-LOCATION:Europe/Berlin
BEGIN:STANDARD
DTSTART:20251026T020000
TZOFFSETFROM:+0200
TZOFFSETTO:+0100
TZNAME:CET
END:STANDARD
END:VTIMEZONE
END:VCALENDAR